BEGIN:VCALENDAR
VERSION:2.0
PRODID:icalendar-ruby
CALSCALE:GREGORIAN
X-WR-TIMEZONE:Europe/Helsinki
BEGIN:VTIMEZONE
TZID:Europe/Helsinki
BEGIN:DAYLIGHT
DTSTART:20260329T040000
TZOFFSETFROM:+0200
TZOFFSETTO:+0300
RRULE:FREQ=YEARLY;BYDAY=-1SU;BYMONTH=3
TZNAME:EEST
END:DAYLIGHT
BEGIN:STANDARD
DTSTART:20261025T030000
TZOFFSETFROM:+0300
TZOFFSETTO:+0200
RRULE:FREQ=YEARLY;BYDAY=-1SU;BYMONTH=10
TZNAME:EET
END:STANDARD
END:VTIMEZONE
BEGIN:VEVENT
DTSTAMP:20260423T181435
UID:sulkaset.myclub.fi-9997196
DTSTART;TZID=Europe/Helsinki:20260109T170000
DTEND;TZID=Europe/Helsinki:20260109T170000
DESCRIPTION:Perjantaisin klo. 17-18 Syssyn sulkiksella. Aloittelevien perus
 ryhmä.\nHinta 160 €/kausi (+ jäsenmaksu)\nValmentaja Jari Hietala 040 
 185 7666 (viestillä)\n\nhttps://sulkaset.myclub.fi/flow/events/9997196
LOCATION:Syssyn sulkis\, Kolmenkulmantie 10\, 33470 Ylöjärvi\, Suomi
SEQUENCE:0
SUMMARY:Perusryhmä Syssyn sulkis (pe): Perusryhmä Syssyn sulkis\, aloitte
 levat aikuiset ja yli 15 -vuotiaat nuoret
URL;VALUE=URI:https://sulkaset.myclub.fi/flow/events/9997196
END:VEVENT
END:VCALENDAR
