BEGIN:VCALENDAR
VERSION:2.0
PRODID:icalendar-ruby
CALSCALE:GREGORIAN
X-WR-TIMEZONE:Europe/Helsinki
BEGIN:VTIMEZONE
TZID:Europe/Helsinki
BEGIN:DAYLIGHT
DTSTART:20260329T040000
TZOFFSETFROM:+0200
TZOFFSETTO:+0300
RRULE:FREQ=YEARLY;BYDAY=-1SU;BYMONTH=3
TZNAME:EEST
END:DAYLIGHT
BEGIN:STANDARD
DTSTART:20261025T030000
TZOFFSETFROM:+0300
TZOFFSETTO:+0200
RRULE:FREQ=YEARLY;BYDAY=-1SU;BYMONTH=10
TZNAME:EET
END:STANDARD
END:VTIMEZONE
BEGIN:VEVENT
DTSTAMP:20260423T181435
UID:sulkaset.myclub.fi-5660768
DTSTART;TZID=Europe/Helsinki:20230829T180000
DTEND;TZID=Europe/Helsinki:20230829T180000
DESCRIPTION:Tiistaisin klo. 18-19 Tampereen Tenniskeskuksella.\nHinta 140 
 €/kausi (Jos et ole vielä jäsen\, niin pakollinen jäsenmaksu +25 eur)
 \nValmentaja Suvi Niemi 0409643131\n\nhttps://sulkaset.myclub.fi/flow/even
 ts/5660768
LOCATION:Tampereen Tenniskeskus\, Toimelankatu 8\, 33560 Tampere\, Suomi
SEQUENCE:0
SUMMARY:Juniorit perusryhmä Ten­nari (ti): Perusryhmä Tennari\, 8-14-vuo
 tiaat
URL;VALUE=URI:https://sulkaset.myclub.fi/flow/events/5660768
END:VEVENT
END:VCALENDAR
